BEGIN:VCALENDAR
VERSION:2.0
PRODID:-//Public Justice - ECPv6.15.20//NONSGML v1.0//EN
CALSCALE:GREGORIAN
METHOD:PUBLISH
X-ORIGINAL-URL:https://www.publicjustice.net
X-WR-CALDESC:Events for Public Justice
REFRESH-INTERVAL;VALUE=DURATION:PT1H
X-Robots-Tag:noindex
X-PUBLISHED-TTL:PT1H
BEGIN:VTIMEZONE
TZID:America/Los_Angeles
BEGIN:DAYLIGHT
TZOFFSETFROM:-0800
TZOFFSETTO:-0700
TZNAME:PDT
DTSTART:20230312T100000
END:DAYLIGHT
BEGIN:STANDARD
TZOFFSETFROM:-0700
TZOFFSETTO:-0800
TZNAME:PST
DTSTART:20231105T090000
END:STANDARD
BEGIN:DAYLIGHT
TZOFFSETFROM:-0800
TZOFFSETTO:-0700
TZNAME:PDT
DTSTART:20240310T100000
END:DAYLIGHT
BEGIN:STANDARD
TZOFFSETFROM:-0700
TZOFFSETTO:-0800
TZNAME:PST
DTSTART:20241103T090000
END:STANDARD
BEGIN:DAYLIGHT
TZOFFSETFROM:-0800
TZOFFSETTO:-0700
TZNAME:PDT
DTSTART:20250309T100000
END:DAYLIGHT
BEGIN:STANDARD
TZOFFSETFROM:-0700
TZOFFSETTO:-0800
TZNAME:PST
DTSTART:20251102T090000
END:STANDARD
END:VTIMEZONE
BEGIN:VEVENT
DTSTART;TZID=America/Los_Angeles:20240930T173000
DTEND;TZID=America/Los_Angeles:20240930T193000
DTSTAMP:20260423T182409
CREATED:20240919T182420Z
LAST-MODIFIED:20240919T182420Z
UID:49872-1727717400-1727724600@www.publicjustice.net
SUMMARY:The Epochs Tour – Seattle
DESCRIPTION:RSVP now for the Epochs Tour Seattle\, introducing new Public Justice CEO\, Sharon McGowan. \nMonday\, September 30th\, 2024.\n5:30PM-7:30PM \nKeller Rohrback\n1201 Third Ave\, Suite 3400\, Seattle\, WA 98101 \nHosted by:\nEric Fong\, Fong Law\nCari Laufenberg\, Keller Rohrback\nBeth Terrell\, Terrell Marshall Law Group \nSponsored by:\nKeller Rohrback\nJND Legal \nRSVP for this event \nQuestions? Please contact the Public Justice Development Team: memberservices@publicjustice.net
URL:https://www.publicjustice.net/event/the-epochs-tour-seattle/
LOCATION:Keller Rohrback\, 1201 Third Ave\, Suite 3400\, Seattle\, WA\, 98101\, United States
CATEGORIES:Reception
END:VEVENT
END:VCALENDAR