BEGIN:VCALENDAR
VERSION:2.0
PRODID:-//Public Justice - ECPv6.15.20//NONSGML v1.0//EN
CALSCALE:GREGORIAN
METHOD:PUBLISH
X-ORIGINAL-URL:https://www.publicjustice.net
X-WR-CALDESC:Events for Public Justice
REFRESH-INTERVAL;VALUE=DURATION:PT1H
X-Robots-Tag:noindex
X-PUBLISHED-TTL:PT1H
BEGIN:VTIMEZONE
TZID:America/New_York
BEGIN:DAYLIGHT
TZOFFSETFROM:-0500
TZOFFSETTO:-0400
TZNAME:EDT
DTSTART:20250309T070000
END:DAYLIGHT
BEGIN:STANDARD
TZOFFSETFROM:-0400
TZOFFSETTO:-0500
TZNAME:EST
DTSTART:20251102T060000
END:STANDARD
BEGIN:DAYLIGHT
TZOFFSETFROM:-0500
TZOFFSETTO:-0400
TZNAME:EDT
DTSTART:20260308T070000
END:DAYLIGHT
BEGIN:STANDARD
TZOFFSETFROM:-0400
TZOFFSETTO:-0500
TZNAME:EST
DTSTART:20261101T060000
END:STANDARD
BEGIN:DAYLIGHT
TZOFFSETFROM:-0500
TZOFFSETTO:-0400
TZNAME:EDT
DTSTART:20270314T070000
END:DAYLIGHT
BEGIN:STANDARD
TZOFFSETFROM:-0400
TZOFFSETTO:-0500
TZNAME:EST
DTSTART:20271107T060000
END:STANDARD
END:VTIMEZONE
BEGIN:VEVENT
DTSTART;TZID=America/New_York:20260122T183000
DTEND;TZID=America/New_York:20260122T203000
DTSTAMP:20260421T093108
CREATED:20251210T201538Z
LAST-MODIFIED:20251210T201538Z
UID:57217-1769106600-1769113800@www.publicjustice.net
SUMMARY:An Evening with the Students' Civil Rights Project
DESCRIPTION:[vc_row row_type=”row” use_row_as_full_screen_section=”no” type=”full_width” text_align=”left” background_animation=”none” css_animation=””][vc_column][vc_column_text css=””] \n\nJoin us for an evening with our Students’ Civil Rights Project! \nAt a time when the odds – and our courts – seem stacked against us\, and the federal government is dismantling the Department of Education\, Public Justice’s Students’ Civil Rights Project (SCRP) is stacking up important wins. Join the SCRP’s project director Adele Kimmel and its litigation director Alexandra Brodsky for a discussion about how the SCRP is scoring critical victories on behalf student survivors of sexual assault\, leading the fight for pregnant students’ Title IX rights\, and more. In challenging times\, the Public Justice team rises to the challenge. RSVP for this special reception and learn more about our work to protect those who are under attack\, right now\, and how you can help at this critical moment in our country’s history. \nRSVP here \nThursday January\, 22nd\, 2026 \n6:30-8:30 p.m. \nQuestions? Please contact the Public Justice Development Team: memberservices@publicjustice.net[/vc_column_text][/vc_column][/vc_row]
URL:https://www.publicjustice.net/event/scrp-nyc-event/
LOCATION:CA
ATTACH;FMTTYPE=image/jpeg:https://www.publicjustice.net/wp-content/uploads/2025/12/Image-16-scaled.jpg
END:VEVENT
END:VCALENDAR